BEGIN:VCALENDAR
VERSION:2.0
PRODID:-//Keep NH Moving - ECPv6.15.20//NONSGML v1.0//EN
CALSCALE:GREGORIAN
METHOD:PUBLISH
X-WR-CALNAME:Keep NH Moving
X-ORIGINAL-URL:https://keepnhmoving.com
X-WR-CALDESC:Events for Keep NH Moving
REFRESH-INTERVAL;VALUE=DURATION:PT1H
X-Robots-Tag:noindex
X-PUBLISHED-TTL:PT1H
BEGIN:VTIMEZONE
TZID:America/New_York
BEGIN:DAYLIGHT
TZOFFSETFROM:-0500
TZOFFSETTO:-0400
TZNAME:EDT
DTSTART:20240310T070000
END:DAYLIGHT
BEGIN:STANDARD
TZOFFSETFROM:-0400
TZOFFSETTO:-0500
TZNAME:EST
DTSTART:20241103T060000
END:STANDARD
BEGIN:DAYLIGHT
TZOFFSETFROM:-0500
TZOFFSETTO:-0400
TZNAME:EDT
DTSTART:20250309T070000
END:DAYLIGHT
BEGIN:STANDARD
TZOFFSETFROM:-0400
TZOFFSETTO:-0500
TZNAME:EST
DTSTART:20251102T060000
END:STANDARD
BEGIN:DAYLIGHT
TZOFFSETFROM:-0500
TZOFFSETTO:-0400
TZNAME:EDT
DTSTART:20260308T070000
END:DAYLIGHT
BEGIN:STANDARD
TZOFFSETFROM:-0400
TZOFFSETTO:-0500
TZNAME:EST
DTSTART:20261101T060000
END:STANDARD
END:VTIMEZONE
BEGIN:VEVENT
DTSTART;TZID=America/New_York:20251016T090000
DTEND;TZID=America/New_York:20251016T150000
DTSTAMP:20260421T150842
CREATED:20251007T145538Z
LAST-MODIFIED:20251007T145538Z
UID:10000423-1760605200-1760626800@keepnhmoving.com
SUMMARY:Leadership Seacoast-Rad Nichols on Seacoast Impact Panel
DESCRIPTION:Join members of Seacoast organizations at the Leadership Seacoast event at Jimmy’s Jazz & Blues Club. Seacoast Impact Panel will begin at 1:00 pm. Moderator: Patte Ardizzoni. Speakers: Whitney Brown\, Executive Director\, Safe Harbor Recovery\, Anna Kay Vorsteg\, Chief of Staff\, Cross Roads House; and Rad Nichols\, Executive Director\, COAST. \nGeneral Admission Ticket: $125.00 \nFor more information: Leadership Seacoast Leadership Summit
URL:https://keepnhmoving.com/event/leadership-seacoast-rad-nichols-on-seacoast-impact-panel/
LOCATION:135 Congress St Portsmouth NH\, 135 Congress St\, Portsmouth\, NH\, United States
END:VEVENT
END:VCALENDAR