BEGIN:VCALENDAR
VERSION:2.0
PRODID:-//Keep NH Moving - ECPv6.15.20//NONSGML v1.0//EN
CALSCALE:GREGORIAN
METHOD:PUBLISH
X-WR-CALNAME:Keep NH Moving
X-ORIGINAL-URL:https://keepnhmoving.com
X-WR-CALDESC:Events for Keep NH Moving
REFRESH-INTERVAL;VALUE=DURATION:PT1H
X-Robots-Tag:noindex
X-PUBLISHED-TTL:PT1H
BEGIN:VTIMEZONE
TZID:America/New_York
BEGIN:DAYLIGHT
TZOFFSETFROM:-0500
TZOFFSETTO:-0400
TZNAME:EDT
DTSTART:20230312T070000
END:DAYLIGHT
BEGIN:STANDARD
TZOFFSETFROM:-0400
TZOFFSETTO:-0500
TZNAME:EST
DTSTART:20231105T060000
END:STANDARD
BEGIN:DAYLIGHT
TZOFFSETFROM:-0500
TZOFFSETTO:-0400
TZNAME:EDT
DTSTART:20240310T070000
END:DAYLIGHT
BEGIN:STANDARD
TZOFFSETFROM:-0400
TZOFFSETTO:-0500
TZNAME:EST
DTSTART:20241103T060000
END:STANDARD
BEGIN:DAYLIGHT
TZOFFSETFROM:-0500
TZOFFSETTO:-0400
TZNAME:EDT
DTSTART:20250309T070000
END:DAYLIGHT
BEGIN:STANDARD
TZOFFSETFROM:-0400
TZOFFSETTO:-0500
TZNAME:EST
DTSTART:20251102T060000
END:STANDARD
END:VTIMEZONE
BEGIN:VEVENT
DTSTART;TZID=America/New_York:20240802T100000
DTEND;TZID=America/New_York:20240802T120000
DTSTAMP:20260421T074748
CREATED:20240731T142610Z
LAST-MODIFIED:20240731T142610Z
UID:10000007-1722592800-1722600000@keepnhmoving.com
SUMMARY:Region #1 (Grafton-Coos Counties) Regional Coordinating Council Meeting
DESCRIPTION:The Region #1 Regional Coordinating Council would like to invite you to its bi-monthly meeting. Lack of transportation options are a topic throughout the state. Join discussions that effect you in the Upper Valley\, and the North Country areas. Whether its options for daily commuting\, specialty transportation options\, environmental impact\, or coordination and innovative transportation ideas\, transportation plays a crucial role in our lives. Join the Region #1 meeting and be part of the discussion\, and help find solutions. Discussions include all transportation\, biking\, rail trail access\, pedestrians\, (for instance\, safe crosswalks) rail\, and other modes. \n 
URL:https://keepnhmoving.com/event/region-1-grafton-coos-counties-regional-coordinating-council-meeting/
LOCATION:Ahead Conference Room-2nd Floor\, 262 Cottage St\, Littleton\, NH\, 03561\, United States
ORGANIZER;CN="Tala Silver":MAILTO:tsilver@tccap.com
END:VEVENT
END:VCALENDAR