BEGIN:VCALENDAR
VERSION:2.0
PRODID:-//Keep NH Moving - ECPv6.15.20//NONSGML v1.0//EN
CALSCALE:GREGORIAN
METHOD:PUBLISH
X-ORIGINAL-URL:https://keepnhmoving.com
X-WR-CALDESC:Events for Keep NH Moving
REFRESH-INTERVAL;VALUE=DURATION:PT1H
X-Robots-Tag:noindex
X-PUBLISHED-TTL:PT1H
BEGIN:VTIMEZONE
TZID:America/New_York
BEGIN:DAYLIGHT
TZOFFSETFROM:-0500
TZOFFSETTO:-0400
TZNAME:EDT
DTSTART:20250309T070000
END:DAYLIGHT
BEGIN:STANDARD
TZOFFSETFROM:-0400
TZOFFSETTO:-0500
TZNAME:EST
DTSTART:20251102T060000
END:STANDARD
BEGIN:DAYLIGHT
TZOFFSETFROM:-0500
TZOFFSETTO:-0400
TZNAME:EDT
DTSTART:20260308T070000
END:DAYLIGHT
BEGIN:STANDARD
TZOFFSETFROM:-0400
TZOFFSETTO:-0500
TZNAME:EST
DTSTART:20261101T060000
END:STANDARD
BEGIN:DAYLIGHT
TZOFFSETFROM:-0500
TZOFFSETTO:-0400
TZNAME:EDT
DTSTART:20270314T070000
END:DAYLIGHT
BEGIN:STANDARD
TZOFFSETFROM:-0400
TZOFFSETTO:-0500
TZNAME:EST
DTSTART:20271107T060000
END:STANDARD
END:VTIMEZONE
BEGIN:VEVENT
DTSTART;TZID=America/New_York:20260122T100000
DTEND;TZID=America/New_York:20260122T120000
DTSTAMP:20260425T115913
CREATED:20260115T135740Z
LAST-MODIFIED:20260115T135740Z
UID:10000336-1769076000-1769083200@keepnhmoving.com
SUMMARY:Region # 7-Greater Nashua Coordination Council
DESCRIPTION:CANCELLED-NOTICE OF PUBLIC MEETING-The Region #7 Regional Coordination Council works collaboratively with the social service agencies in the Greater Nashua region\, hoping to address their concerns about community transportation.  Outreach is conducted regularly to ensure that awareness of the RCC # 7 occurs.  All are welcome at the RCC7 monthly meetings on the fourth Thursday of each month at 10:00 a.m. at NRPC\, 30 Temple Street\, Suite 310\, Nashua\, NH  03060.  Please email donnam@nashuarpc.org to be placed on the mailing list and for a Zoom link.
URL:https://keepnhmoving.com/event/region-7-greater-nashua-coordination-council-2/
LOCATION:Nashua Regional Planning Commissison\, 30 Temple St\, Nashua\, NH\, 03060\, United States
CATEGORIES:Regional Coordinating Council Meeting
ORGANIZER;CN="Donna Marceau":MAILTO:donnam@nashuarpc.org
END:VEVENT
BEGIN:VEVENT
DTSTART;TZID=America/New_York:20260127T093000
DTEND;TZID=America/New_York:20260127T113000
DTSTAMP:20260425T115913
CREATED:20260106T134822Z
LAST-MODIFIED:20260106T193415Z
UID:10000505-1769506200-1769513400@keepnhmoving.com
SUMMARY:Region #5-Monadnock Regional Coordinating Council Meeting
DESCRIPTION:NOTICE OF PUBLIC MEETING-Join regional leaders\, partners\, and community members to carry out regional initiatives of coordination and filling the gaps when it comes to community transportation.
URL:https://keepnhmoving.com/event/monadnock-regional-coordinating-council-meeting/
LOCATION:Monadnock Regional Planning Commission Office\, 37 Ashuelot St\, Keene\, NH\, 03431\, United States
CATEGORIES:Regional Coordinating Council Meeting
ORGANIZER;CN="Lisa Steadman":MAILTO:lsteadman@swrpc.org
END:VEVENT
END:VCALENDAR