BEGIN:VCALENDAR
VERSION:2.0
PRODID:-//Keep NH Moving - ECPv6.15.20//NONSGML v1.0//EN
CALSCALE:GREGORIAN
METHOD:PUBLISH
X-ORIGINAL-URL:https://keepnhmoving.com
X-WR-CALDESC:Events for Keep NH Moving
REFRESH-INTERVAL;VALUE=DURATION:PT1H
X-Robots-Tag:noindex
X-PUBLISHED-TTL:PT1H
BEGIN:VTIMEZONE
TZID:America/New_York
BEGIN:DAYLIGHT
TZOFFSETFROM:-0500
TZOFFSETTO:-0400
TZNAME:EDT
DTSTART:20230312T070000
END:DAYLIGHT
BEGIN:STANDARD
TZOFFSETFROM:-0400
TZOFFSETTO:-0500
TZNAME:EST
DTSTART:20231105T060000
END:STANDARD
BEGIN:DAYLIGHT
TZOFFSETFROM:-0500
TZOFFSETTO:-0400
TZNAME:EDT
DTSTART:20240310T070000
END:DAYLIGHT
BEGIN:STANDARD
TZOFFSETFROM:-0400
TZOFFSETTO:-0500
TZNAME:EST
DTSTART:20241103T060000
END:STANDARD
BEGIN:DAYLIGHT
TZOFFSETFROM:-0500
TZOFFSETTO:-0400
TZNAME:EDT
DTSTART:20250309T070000
END:DAYLIGHT
BEGIN:STANDARD
TZOFFSETFROM:-0400
TZOFFSETTO:-0500
TZNAME:EST
DTSTART:20251102T060000
END:STANDARD
END:VTIMEZONE
BEGIN:VEVENT
DTSTART;TZID=America/New_York:20241001T080000
DTEND;TZID=America/New_York:20241025T170000
DTSTAMP:20260424T085042
CREATED:20241001T171000Z
LAST-MODIFIED:20241001T171000Z
UID:10000012-1727769600-1729875600@keepnhmoving.com
SUMMARY:Driver Comment Box
DESCRIPTION:Show your appreciation for our drivers by leaving a positive comment for them at the Transit Center! NTS will share your comments with the driver to show your gratitude and support.
URL:https://keepnhmoving.com/event/driver-comment-box/
LOCATION:Nashua Transit Center\, 30 Elm St\, Nashua\, NH\, 03060\, United States
END:VEVENT
END:VCALENDAR